BEGIN:VCALENDAR
VERSION:2.0
PRODID:-//ChamberMaster//Event Calendar 2.0//EN
METHOD:PUBLISH
X-PUBLISHED-TTL:P3D
REFRESH-INTERVAL:P3D
CALSCALE:GREGORIAN
BEGIN:VEVENT
DTSTART:20230712T173000Z
DTEND:20230712T180000Z
X-MICROSOFT-CDO-ALLDAYEVENT:FALSE
SUMMARY:Kelleher & Holland Employment Lunch-N-Learn
DESCRIPTION:The NLRB's New Menu:\n\nTime to Change the Recipe for Your Severance and Confidentiality Agreements! With Andrew Boling and Madeline Kelleher.\n\nEmployers should review and update their confidentiality and severance agreements to comply with recent guidance from the National Labor Relations Board. Join us to learn about how the NLRB's new menu will impact your employment policy "cookbook" and the new recipe for compliant confidentiality and severance agreements.
X-ALT-DESC;FMTTYPE=text/html:The NLRB&#39\;s New Menu:<br />\nTime to Change the Recipe for Your Severance and Confidentiality Agreements! With Andrew Boling and Madeline Kelleher.<br />\nEmployers should review and update their confidentiality and severance agreements to comply with recent guidance from the National Labor Relations Board. Join us to learn about how the NLRB&#39\;s new menu will impact your employment policy &quot\;cookbook&quot\; and the new recipe for compliant confidentiality and severance agreements.
LOCATION:Virtual - Zoom
UID:e.2066.5274
SEQUENCE:3
DTSTAMP:20260419T153505Z
URL:https://dev.chainolakeschamber.com/events/details/kelleher-holland-employment-lunch-n-learn-5274
END:VEVENT

END:VCALENDAR
