BEGIN:VCALENDAR
VERSION:2.0
PRODID:-//ChamberMaster//Event Calendar 2.0//EN
METHOD:PUBLISH
X-PUBLISHED-TTL:P3D
REFRESH-INTERVAL:P3D
CALSCALE:GREGORIAN
BEGIN:VEVENT
DTSTART:20230802T173000Z
DTEND:20230802T180000Z
X-MICROSOFT-CDO-ALLDAYEVENT:FALSE
SUMMARY:Kelleher & Holland Employement Law Lunch-N-Learns
DESCRIPTION:Satisfy your OSHA Compliance Appetite!\n\nEnsuring compliance with the Occupational Safety and Health Administration (OSHA) guidelines is a crucial recipe for a secure workplace. It's not just a legal must-have\; it's the secret sauce to nurturing a safe and thriving environment for your team.\n\n\n\nPart one of two webinars\, this Lunch-n-Learn is exclusively seasoned for businesses in office settings.
X-ALT-DESC;FMTTYPE=text/html:Satisfy your OSHA Compliance Appetite!<br />\nEnsuring compliance with the Occupational Safety and Health Administration (OSHA) guidelines is a crucial recipe for a secure workplace. It&#39\;s not just a legal must-have\; it&#39\;s the secret sauce to nurturing a safe and thriving environment for your team.<br />\n<br />\nPart one of two webinars\, this Lunch-n-Learn is exclusively seasoned for businesses in office settings.
LOCATION:Remote (Zoom) Register here: https://us06web.zoom.us/webinar/register/WN_YnpYoDYKRJC5QvaLfOpi4Q#/registration
UID:e.2066.5327
SEQUENCE:3
DTSTAMP:20260419T140605Z
URL:https://dev.chainolakeschamber.com/events/details/kelleher-holland-employement-law-lunch-n-learns-5327
END:VEVENT

END:VCALENDAR
