BEGIN:VCALENDAR
VERSION:2.0
PRODID:-//ChamberMaster//Event Calendar 2.0//EN
METHOD:PUBLISH
X-PUBLISHED-TTL:P3D
REFRESH-INTERVAL:P3D
CALSCALE:GREGORIAN
BEGIN:VEVENT
DTSTART:20220917T180000Z
DTEND:20220917T210000Z
X-MICROSOFT-CDO-ALLDAYEVENT:FALSE
SUMMARY:Kelleher & Holland 2022 All Wheels Car Show
DESCRIPTION:Save The Date!\n\n\n\nJoin us for Kelleher + Holland's annual 2022 All Wheels Car Show! The show will be held on Saturday September 17th from 1:00   4:00 pm\, graciously hosted by The Club at Wynstone\, 1 S Wynstone Drive in North Barrington.\n\n \n\nIn addition to  some fabulous automobiles on display\, activities include wine tastings and games for the adults\, glitter tattoos and balloons for the kids\, as well as a variety of food and beverages for all. There will also be a "Best in Show" contest where attendees will have a chance to vote on their favorite car. Support our fundraising efforts by participating in our raffle with over $2\,500 in prizes from local vendors. 100% of the proceeds will benefit the Association of Horizon and the Y-Not Project.\n\n \n\nAttendees are asked to donate canned goods or baby formula for Catholic Charities. Display your wheels or just come along for the ride!\n\nFor more information\, or if you would like to show your car\, visit kelleherholland.com/car-show-2022 or email carshow@kelleherholland.com. All makes and models welcome!
X-ALT-DESC;FMTTYPE=text/html:<p style="color: rgb(32\, 31\, 30)\; background-color: rgb(255\, 255\, 255)\; font-size: 11pt\; font-family: Calibri\, sans-serif\; margin: 0px\;">Save The Date!<br />\n<br />\nJoin us for Kelleher + Holland&rsquo\;s annual 2022 All Wheels Car Show! The show will be held on Saturday September 17<sup>th</sup>&nbsp\;from 1:00 &ndash\; 4:00 pm\, graciously hosted by The Club at Wynstone\, 1 S Wynstone Drive in North Barrington.</p>\n\n<p aria-hidden="true" style="color: rgb(32\, 31\, 30)\; background-color: rgb(255\, 255\, 255)\; font-size: 11pt\; font-family: Calibri\, sans-serif\; margin: 0px\;">&nbsp\;</p>\n\n<p style="color: rgb(32\, 31\, 30)\; background-color: rgb(255\, 255\, 255)\; font-size: 11pt\; font-family: Calibri\, sans-serif\; margin: 0px\;">In addition to &#65279\;some fabulous automobiles on display\, activities include wine tastings and games for the adults\, glitter tattoos and balloons for the kids\, as well as a variety of food and beverages for all. There will also be a &ldquo\;Best in Show&rdquo\; contest where attendees will have a chance to vote on their favorite car. Support our fundraising efforts by participating in our raffle with over $2\,500 in prizes from local vendors. 100% of the proceeds will benefit the Association of Horizon and the Y-Not Project.</p>\n\n<p aria-hidden="true" style="color: rgb(32\, 31\, 30)\; background-color: rgb(255\, 255\, 255)\; font-size: 11pt\; font-family: Calibri\, sans-serif\; margin: 0px\;">&nbsp\;</p>\n\n<p style="color: rgb(32\, 31\, 30)\; background-color: rgb(255\, 255\, 255)\; font-size: 11pt\; font-family: Calibri\, sans-serif\; margin: 0px\;">Attendees are asked to donate canned goods or baby formula for Catholic Charities. Display your wheels or just come along for the ride!</p>\n\n<p style="color: rgb(32\, 31\, 30)\; background-color: rgb(255\, 255\, 255)\; font-size: 11pt\; font-family: Calibri\, sans-serif\; margin: 0px\;">For more information\, or if you would like to show your car\, visit&nbsp\;<a data-auth="NotApplicable" data-linkindex="0" href="https://www.kelleherholland.com/car-show-2022/" rel="noopener noreferrer" style="border: 0px\; font: inherit\; margin: 0px\; padding: 0px\; vertical-align: baseline\;" target="_blank">kelleherholland.com/car-show-2022</a>&nbsp\;or email&nbsp\;<a data-auth="NotApplicable" data-linkindex="1" href="mailto:carshow@kelleherholland.com" rel="noopener noreferrer" style="border: 0px\; font: inherit\; margin: 0px\; padding: 0px\; vertical-align: baseline\;" target="_blank">carshow@kelleherholland.com</a>. All makes and models welcome!</p>\n
LOCATION:The Club at Wynstone\, 1 S Wynstone Drive in North Barrington\, IL
UID:e.2066.4594
SEQUENCE:3
DTSTAMP:20260422T122926Z
URL:https://dev.chainolakeschamber.com/events/details/kelleher-holland-2022-all-wheels-car-show-4594
END:VEVENT

END:VCALENDAR
