BEGIN:VCALENDAR
VERSION:2.0
PRODID:-//ChamberMaster//Event Calendar 2.0//EN
METHOD:PUBLISH
X-PUBLISHED-TTL:P3D
REFRESH-INTERVAL:P3D
CALSCALE:GREGORIAN
BEGIN:VEVENT
DTSTART:20221208T183000Z
DTEND:20221208T203000Z
X-MICROSOFT-CDO-ALLDAYEVENT:FALSE
SUMMARY:Join in the Holiday Spirit!
DESCRIPTION:Create a special ornament\, enjoy cookies & a hot beverage and have our holiday helpers wrap your\n\ngifts!\n\n\n\nThank you to the instructors at Kaleidoscope School of Fine Art for their assistance in creating a unique ornament. Space is limited so early registration is recommended.\n\n\n\nRSVP to 847-462-0885 or\n\nEvents@Elderwerks.org\n\nPlease RSVP by Tuesday\, Dec. 6th
X-ALT-DESC;FMTTYPE=text/html:Create a special ornament\, enjoy cookies &amp\; a hot&nbsp\;beverage and have our holiday helpers wrap your<br />\ngifts!<br />\n<br />\nThank you to the instructors at Kaleidoscope School of Fine Art for&nbsp\;their assistance in creating a unique ornament. Space is limited so&nbsp\;early registration is recommended.<br />\n<br />\nRSVP to 847-462-0885 or<br />\nEvents@Elderwerks.org<br />\nPlease RSVP by Tuesday\, Dec. 6th
LOCATION:Elderwerks 251 E. Northwest Highway Palatine\, IL
UID:e.2066.4864
SEQUENCE:3
DTSTAMP:20260420T021601Z
URL:https://dev.chainolakeschamber.com/events/details/join-in-the-holiday-spirit-4864
END:VEVENT

END:VCALENDAR
