BEGIN:VCALENDAR
VERSION:2.0
PRODID:-//ChamberMaster//Event Calendar 2.0//EN
METHOD:PUBLISH
X-PUBLISHED-TTL:P3D
REFRESH-INTERVAL:P3D
CALSCALE:GREGORIAN
BEGIN:VEVENT
DTSTART:20180504T223000Z
DTEND:20180505T040000Z
X-MICROSOFT-CDO-ALLDAYEVENT:FALSE
SUMMARY:Jockeys and Juleps Annual Dinner Gala
DESCRIPTION:Main Stay Therapeutic Farm is hosting its "Jockeys and Juleps" annual dinner gala on Friday\, May 4th\, 2018 from 5:30pm - 11:00pm at the historic Starline Factory in Harvard. Join us at this fun-filled event featuring live music\, cocktails\, dinner\, silent auction\, reverse auction and cash raffle. All funds raised directly support our mission to help people achieve their goals through the infinite healing abilities of our animals and nature. Tickets are $75 each. Sponsorships available. For more information call 815-653-9374 or visit our website at www.mainstayfarm.org.
X-ALT-DESC;FMTTYPE=text/html:Main Stay Therapeutic Farm is hosting its &quot\;Jockeys and Juleps&quot\; annual dinner gala on Friday\, May 4th\, 2018 from 5:30pm - 11:00pm at the historic Starline Factory in Harvard. Join us at this fun-filled event featuring live music\, cocktails\, dinner\, silent auction\, reverse auction and cash raffle. All funds raised directly support our mission to help people achieve their goals through the infinite healing abilities of our animals and nature. Tickets are $75 each. Sponsorships available. For more information call 815-653-9374 or visit our website at www.mainstayfarm.org.
LOCATION:Starline Factory\, 300 W. Front Street\, Harvard\, IL 60033
UID:e.2066.938
SEQUENCE:3
DTSTAMP:20260425T234522Z
URL:https://dev.chainolakeschamber.com/events/details/jockeys-and-juleps-annual-dinner-gala-938
END:VEVENT

END:VCALENDAR
