BEGIN:VCALENDAR
VERSION:2.0
PRODID:-//ChamberMaster//Event Calendar 2.0//EN
METHOD:PUBLISH
X-PUBLISHED-TTL:P3D
REFRESH-INTERVAL:P3D
CALSCALE:GREGORIAN
BEGIN:VEVENT
DTSTART:20210805T220000Z
DTEND:20210806T000000Z
X-MICROSOFT-CDO-ALLDAYEVENT:FALSE
SUMMARY:Job Search Skills
DESCRIPTION:Searching for a job can be intimidating. This workshop will prepare you to start your job search by answering common questions about finding job leads\, networking\, building a resume\, interviewing and more.
X-ALT-DESC;FMTTYPE=text/html:Searching for a job can be intimidating. This workshop will prepare you to start your job search by answering common questions about finding job leads\, networking\, building a resume\, interviewing and more.
LOCATION:Live Zoom
UID:e.2066.4087
SEQUENCE:3
DTSTAMP:20260423T100036Z
URL:https://dev.chainolakeschamber.com/events/details/job-search-skills-4087
END:VEVENT

END:VCALENDAR
