BEGIN:VCALENDAR
VERSION:2.0
PRODID:-//ChamberMaster//Event Calendar 2.0//EN
METHOD:PUBLISH
X-PUBLISHED-TTL:P3D
REFRESH-INTERVAL:P3D
CALSCALE:GREGORIAN
BEGIN:VEVENT
DTSTART:20210923T140000Z
DTEND:20210923T170000Z
X-MICROSOFT-CDO-ALLDAYEVENT:FALSE
SUMMARY:Job Fair hosted by Fox Lake District Library
DESCRIPTION:The goal of the Job Fair is to help adults find viable employment in the Fox Lake Area community and to improve our local workforce.
X-ALT-DESC;FMTTYPE=text/html:<div class="kvgmc6g5 cxmmr5t8 oygrvhab hcukyx3x c1et5uql"><span class="d2edcug0 hpfvmrgz qv66sw1b c1et5uql lr9zc1uh a8c37x1j keod5gw0 nxhoafnm aigsh9s9 d3f4x2em fe6kdd0r mau55g9w c8b282yb iv3no6db jq4qci2q a3bd9o3v b1v8xokw oo9gr5id" dir="auto">The goal of the Job Fair is to help adults find viable employment in the Fox Lake Area community and to improve our local workforce. </span></div>\n
LOCATION:The Job Fair is free to attend. Lakefront Park Building 71 Nippersink Blvd.\, Fox Lake\, IL 60020. The fair will be from 9am - 12pm.
UID:e.2066.4128
SEQUENCE:3
DTSTAMP:20260423T094756Z
URL:https://dev.chainolakeschamber.com/events/details/job-fair-hosted-by-fox-lake-district-library-4128
END:VEVENT

END:VCALENDAR
