BEGIN:VCALENDAR
VERSION:2.0
PRODID:-//ChamberMaster//Event Calendar 2.0//EN
METHOD:PUBLISH
X-PUBLISHED-TTL:P3D
REFRESH-INTERVAL:P3D
CALSCALE:GREGORIAN
BEGIN:VEVENT
DTSTART:20200722T140000Z
DTEND:20200722T170000Z
X-MICROSOFT-CDO-ALLDAYEVENT:FALSE
SUMMARY:Job Fair by State Representative Steve Reick
DESCRIPTION:
X-ALT-DESC;FMTTYPE=text/html:
LOCATION:Woodstock North High School 3000 Raffel Road\, Woodstock
UID:e.2066.3384
SEQUENCE:3
DTSTAMP:20260424T075816Z
URL:https://dev.chainolakeschamber.com/events/details/job-fair-by-state-representative-steve-reick-3384
END:VEVENT

END:VCALENDAR
