BEGIN:VCALENDAR
VERSION:2.0
PRODID:-//ChamberMaster//Event Calendar 2.0//EN
METHOD:PUBLISH
X-PUBLISHED-TTL:P3D
REFRESH-INTERVAL:P3D
CALSCALE:GREGORIAN
BEGIN:VEVENT
DTSTART;VALUE=DATE:20210615
DTEND;VALUE=DATE:20210619
TRANSP:TRANSPARENT
X-MICROSOFT-CDO-ALLDAYEVENT:TRUE
SUMMARY:Job Fair at Pioneer Center
DESCRIPTION:Attend Pioneer Center's Job Fair and start a career that will make a difference! \n\nMore information: www.pioneercenter.org/careers/
X-ALT-DESC;FMTTYPE=text/html:<span style="color:rgb(34\, 34\, 34)\; font-family:lato\; font-size:20px">Attend Pioneer Center&#39\;s Job Fair and start a career that will make a difference!&nbsp\;<br />\nMore information: www.pioneercenter.org/careers/</span>
LOCATION:Pioneer Center for Human Services 4031 W. Dayton St in McHenry\, IL
UID:e.2066.4064
SEQUENCE:3
DTSTAMP:20260423T130112Z
URL:https://dev.chainolakeschamber.com/events/details/job-fair-at-pioneer-center-4064
END:VEVENT

END:VCALENDAR
