BEGIN:VCALENDAR
VERSION:2.0
PRODID:-//ChamberMaster//Event Calendar 2.0//EN
METHOD:PUBLISH
X-PUBLISHED-TTL:P3D
REFRESH-INTERVAL:P3D
CALSCALE:GREGORIAN
BEGIN:VEVENT
DTSTART:20221204T140000Z
DTEND:20221204T170000Z
X-MICROSOFT-CDO-ALLDAYEVENT:FALSE
SUMMARY:Jeeps on the Run Toys for Tots Parade
DESCRIPTION:Starting in Fox Lake on Rollins Road\, you will get a chance to watch all the decorated Jeeps on the Run parading for Toys for Tots!\n\n\n\nIf you would like to be in the parade\, please register here! \n\nhttps://jeepsontherun.com/event/jeeps-on-the-run-2022-toys-for-tots-event/
X-ALT-DESC;FMTTYPE=text/html:Starting in Fox Lake on Rollins Road\, you will get a chance to watch all the decorated Jeeps on the Run parading for Toys for Tots!<br />\n<br />\nIf you would like to be in the parade\, please register here!&nbsp\;<br />\nhttps://jeepsontherun.com/event/jeeps-on-the-run-2022-toys-for-tots-event/
LOCATION:Fox Lake: Rollins Road to Grand Ave into Waukegan and end at the Gensis Theater
UID:e.2066.4881
SEQUENCE:3
DTSTAMP:20260420T021644Z
URL:https://dev.chainolakeschamber.com/events/details/jeeps-on-the-run-toys-for-tots-parade-4881
END:VEVENT

END:VCALENDAR
