BEGIN:VCALENDAR
VERSION:2.0
PRODID:-//ChamberMaster//Event Calendar 2.0//EN
METHOD:PUBLISH
X-PUBLISHED-TTL:P3D
REFRESH-INTERVAL:P3D
CALSCALE:GREGORIAN
BEGIN:VEVENT
DTSTART:20181108T003000Z
DTEND:20181108T020000Z
X-MICROSOFT-CDO-ALLDAYEVENT:FALSE
SUMMARY:JABA - Johnsburg Area Business Association
DESCRIPTION:TAX TIPS on closing out this year and preparing for the coming year\n\n\n\nCarla Merlak is the founder and president of Merlak Tax Advisory Group\, Inc. Carla has been providing tax services for 20 years.\n\n\n\nPatrick Noone is the owner of PJN Financial Services\, Inc. Patrick has been helping samll business startups for more than 32 years.
X-ALT-DESC;FMTTYPE=text/html:<span style="font-size:18px\;"><strong>TAX TIPS on closing out this year and preparing for the coming year</strong></span><br />\n<br />\nCarla Merlak is the founder and president of Merlak Tax Advisory Group\, Inc. Carla has been providing tax services for 20 years.<br />\n<br />\nPatrick Noone is the owner of PJN Financial Services\, Inc. Patrick has been helping samll business startups for more than 32 years.
LOCATION:Johnsburg State Bank on Chapel Hill Rd
UID:e.2066.1680
SEQUENCE:3
DTSTAMP:20260425T152019Z
URL:https://dev.chainolakeschamber.com/events/details/jaba-johnsburg-area-business-association-1680
END:VEVENT

END:VCALENDAR
