BEGIN:VCALENDAR
VERSION:2.0
PRODID:-//ChamberMaster//Event Calendar 2.0//EN
METHOD:PUBLISH
X-PUBLISHED-TTL:P3D
REFRESH-INTERVAL:P3D
CALSCALE:GREGORIAN
BEGIN:VEVENT
DTSTART:20220526T150000Z
DTEND:20220526T161500Z
X-MICROSOFT-CDO-ALLDAYEVENT:FALSE
SUMMARY:Introduction to Exporting
DESCRIPTION:This webinar provides a comprehensive overview of export requirements and procedures including knowledge\, resources\, and key elements to your export success. Learn how to determine if exporting is right for your company\, the different export models used and when each is appropriate\, and how to prepare and execute your export plan. Topics include export readiness\, how to select target markets\, market research and prioritization\, finding good partners\, methods of payment\, insurance\, managing your international shipments and export compliance. Registration required.
X-ALT-DESC;FMTTYPE=text/html:This webinar provides a comprehensive overview of export requirements and procedures including knowledge\, resources\, and key elements to your export success. Learn how to determine if exporting is right for your company\, the different export models used and when each is appropriate\, and how to prepare and execute your export plan. Topics include export readiness\, how to select target markets\, market research and prioritization\, finding good partners\, methods of payment\, insurance\, managing your international shipments and export compliance. Registration required.
LOCATION:Online via Zoom.
UID:e.2066.4167
SEQUENCE:3
DTSTAMP:20260422T190740Z
URL:https://dev.chainolakeschamber.com/events/details/introduction-to-exporting-05-26-2022-4167
END:VEVENT

END:VCALENDAR
