BEGIN:VCALENDAR
VERSION:2.0
PRODID:-//ChamberMaster//Event Calendar 2.0//EN
METHOD:PUBLISH
X-PUBLISHED-TTL:P3D
REFRESH-INTERVAL:P3D
CALSCALE:GREGORIAN
BEGIN:VEVENT
DTSTART:20210422T150000Z
DTEND:20210422T163000Z
X-MICROSOFT-CDO-ALLDAYEVENT:FALSE
SUMMARY:Introduction to Exporting
DESCRIPTION:This no-cost Live Zoom webinar provides you with a comprehensive overview of export knowledge\, requirements and procedures including resources and key elements to your export success. Learn how to determine if exporting is right for your company\, the different export models that are used and when each is appropriate\, how to prepare for exporting\, and how to execute on your export plan.
X-ALT-DESC;FMTTYPE=text/html:This no-cost Live Zoom webinar provides you with a comprehensive overview of export knowledge\, requirements and procedures including resources and key elements to your export success. Learn how to determine if exporting is right for your company\, the different export models that are used and when each is appropriate\, how to prepare for exporting\, and how to execute on your export plan.
LOCATION:Live Zoom
UID:e.2066.3410
SEQUENCE:3
DTSTAMP:20260423T160043Z
URL:https://dev.chainolakeschamber.com/events/details/introduction-to-exporting-04-22-2021-3410
END:VEVENT

END:VCALENDAR
