BEGIN:VCALENDAR
VERSION:2.0
PRODID:-//ChamberMaster//Event Calendar 2.0//EN
METHOD:PUBLISH
X-PUBLISHED-TTL:P3D
REFRESH-INTERVAL:P3D
CALSCALE:GREGORIAN
BEGIN:VEVENT
DTSTART:20180620T000000Z
DTEND:20180620T010000Z
X-MICROSOFT-CDO-ALLDAYEVENT:FALSE
SUMMARY:Intro to Raindrop Technique
DESCRIPTION:Raindrop Technique is a combination of targeted massage techniques with therapeutic grade essential oils. The purpose of Raindrop Technique is to stimulate the central and peripheral nervous system so the body can realign and heal itself. Raindrop Technique enhances your immune & respiratory systems as well as supporting healthy cardiovascular function\, blood & lymph circulation and aids your body's natural response to injury or inflammation.\n\n\n\nWhat You'll Learn:\n\n- HOW ESSENTIAL OILS ENHANCE WELLNESS\n\n- SUPPORT YOUR BODY'S INJURY RESPONSE\n\n- MANAGE PAIN AND INFLAMMATION\n\n- HOW YOUR BODY CAN HEAL ITSELF\n\n- HISTORY & ORIGIN OF RAINDROP TECHNIQUE
X-ALT-DESC;FMTTYPE=text/html:Raindrop Technique is a combination of targeted massage techniques with therapeutic grade essential oils. The purpose of Raindrop Technique is to stimulate the central and peripheral nervous system so the body can realign and heal itself. Raindrop Technique enhances your immune &amp\; respiratory systems as well as supporting healthy cardiovascular function\, blood &amp\; lymph circulation and aids your body&#39\;s natural response to injury or inflammation.<br />\n<br />\nWhat You&#39\;ll Learn:<br />\n- HOW ESSENTIAL OILS ENHANCE WELLNESS<br />\n- SUPPORT YOUR BODY&#39\;S INJURY RESPONSE<br />\n- MANAGE PAIN AND INFLAMMATION<br />\n-&nbsp\;HOW YOUR BODY CAN HEAL ITSELF<br />\n- HISTORY &amp\; ORIGIN OF RAINDROP TECHNIQUE<br />\n&nbsp\;
LOCATION:The Healing Hands Club Massage Studio- 2207 N US HWY 12\, Suite E Spring Grove\, IL 60081
UID:e.2066.1116
SEQUENCE:3
DTSTAMP:20260425T234418Z
URL:https://dev.chainolakeschamber.com/events/details/intro-to-raindrop-technique-1116
END:VEVENT

END:VCALENDAR
