BEGIN:VCALENDAR
VERSION:2.0
PRODID:-//ChamberMaster//Event Calendar 2.0//EN
METHOD:PUBLISH
X-PUBLISHED-TTL:P3D
REFRESH-INTERVAL:P3D
CALSCALE:GREGORIAN
BEGIN:VEVENT
DTSTART:20210810T220000Z
DTEND:20210811T000000Z
X-MICROSOFT-CDO-ALLDAYEVENT:FALSE
SUMMARY:Internet Marketing Fundamentals
DESCRIPTION:Internet Marketing Fundamentals will provide you with a great set of skills to market your business online. Content is the king of Internet marketing\, and you will need to know how to utilize your great content. If you want your business to grow then you need to understand Internet Marketing Fundamentals.
X-ALT-DESC;FMTTYPE=text/html:Internet Marketing Fundamentals will provide you with a great set of skills to market your business online. Content is the king of Internet marketing\, and you will need to know how to utilize your great content. If you want your business to grow then you need to understand Internet Marketing Fundamentals.
LOCATION:Live Zoom
UID:e.2066.4090
SEQUENCE:3
DTSTAMP:20260423T111823Z
URL:https://dev.chainolakeschamber.com/events/details/internet-marketing-fundamentals-4090
END:VEVENT

END:VCALENDAR
