BEGIN:VCALENDAR
VERSION:2.0
PRODID:-//ChamberMaster//Event Calendar 2.0//EN
METHOD:PUBLISH
X-PUBLISHED-TTL:P3D
REFRESH-INTERVAL:P3D
CALSCALE:GREGORIAN
BEGIN:VEVENT
DTSTART:20200221T010000Z
DTEND:20200221T014500Z
X-MICROSOFT-CDO-ALLDAYEVENT:FALSE
SUMMARY:Advanced Obedience Class\,
DESCRIPTION:AKC Companion Dog Class\n\nAdvanced Obedience \n\n \nWeek 1: Focused heel while turns and stops. Off leash recall\, coming front and into heel. Solid stand stay for exam. Work on long distance behaviors.\n\nWeek 2: Holding and carrying dumbbell\, dumbbell retrieve on flat\, and over high jump. Introduce staggered stand stay.\n\nWeek 3: Introduce the send out and directional casting over jumps.\n\nWeek 4: Work on staggered stay while asking the dog to sit and down. \n\nWeek 5: Introduce sent discrimination.\n\nWeek 6: Review all lessons we have learned.
X-ALT-DESC;FMTTYPE=text/html:<div style="text-align:center"><strong><u>AKC Companion Dog Class<br />\nAdvanced Obedience&nbsp\;</u></strong><br />\n&nbsp\;</div>\nWeek 1: Focused heel while turns and stops. Off leash recall\, coming front and into heel. Solid stand stay for exam. Work on long distance behaviors.<br />\nWeek 2: Holding and carrying dumbbell\, dumbbell retrieve on flat\, and over high jump. Introduce staggered stand stay.<br />\nWeek 3: Introduce the send out and directional casting over jumps.<br />\nWeek 4: Work on staggered stay while asking the dog to sit and down.&nbsp\;<br />\nWeek 5: Introduce sent discrimination.<br />\nWeek 6: Review all lessons we have learned.&nbsp\;
LOCATION:Aldens's Kennels Inc. 6810 Barnard Mill Rd. RingwoodIL.60072
UID:e.2066.1683
SEQUENCE:3
DTSTAMP:20260424T154523Z
URL:https://dev.chainolakeschamber.com/events/details/intermediate-2-obedience-group-class-1683
END:VEVENT

END:VCALENDAR
