BEGIN:VCALENDAR
VERSION:2.0
PRODID:-//ChamberMaster//Event Calendar 2.0//EN
METHOD:PUBLISH
X-PUBLISHED-TTL:P3D
REFRESH-INTERVAL:P3D
CALSCALE:GREGORIAN
BEGIN:VEVENT
DTSTART:20221119T180000Z
DTEND:20221119T233000Z
X-MICROSOFT-CDO-ALLDAYEVENT:FALSE
SUMMARY:Int'l House of Wine & Cheese - Holiday Wine Tasting
DESCRIPTION:Holiday Wine Tasting at the International House of Wine & Cheese!\n\n\n\nChoose from the available time slots on the webpage - https://www.forwinelovers.com/events/ \n\nPayment can also be made on the webpage.
X-ALT-DESC;FMTTYPE=text/html:Holiday Wine Tasting at the International House of Wine &amp\; Cheese!<br />\n<br />\nChoose from the available time slots on the webpage -&nbsp\;https://www.forwinelovers.com/events/&nbsp\;<br />\nPayment can also be made on the webpage.
LOCATION:11302 US 12 Richmond IL 60071
UID:e.2066.4879
SEQUENCE:3
DTSTAMP:20260422T093206Z
URL:https://dev.chainolakeschamber.com/events/details/int-l-house-of-wine-cheese-holiday-wine-tasting-4879
END:VEVENT

END:VCALENDAR
