BEGIN:VCALENDAR
VERSION:2.0
PRODID:-//ChamberMaster//Event Calendar 2.0//EN
METHOD:PUBLISH
X-PUBLISHED-TTL:P3D
REFRESH-INTERVAL:P3D
CALSCALE:GREGORIAN
BEGIN:VEVENT
DTSTART:20220317T150000Z
DTEND:20220317T153000Z
X-MICROSOFT-CDO-ALLDAYEVENT:FALSE
SUMMARY:Information Session - Sell Global with Exporting Assistance Services
DESCRIPTION:Attend a virtual information session to learn about how your company can start selling its exportable products and services internationally. We will discuss why exporting is a sustainable opportunity to increase revenue and is an organic business strategy. Additional topics include benefits of exporting\, myths about exporting\, export readiness\, mitigating risks\, and new-to-exporting requirements and procedures. The Illinois SBDC International Trade Center at the College of Lake County provides no-cost export assistance services and resources! Registration required.
X-ALT-DESC;FMTTYPE=text/html:Attend a virtual information session to learn about how your company can start selling its exportable products and services internationally. We will discuss why exporting is a sustainable opportunity to increase revenue and is an organic business strategy. Additional topics include benefits of exporting\, myths about exporting\, export readiness\, mitigating risks\, and new-to-exporting requirements and procedures. The Illinois SBDC International Trade Center at the College of Lake County provides no-cost export assistance services and resources! Registration required.
LOCATION:Online via Zoom.
UID:e.2066.4168
SEQUENCE:3
DTSTAMP:20260422T223811Z
URL:https://dev.chainolakeschamber.com/events/details/information-session-sell-global-with-exporting-assistance-services-4168
END:VEVENT

END:VCALENDAR
