BEGIN:VCALENDAR
VERSION:2.0
PRODID:-//ChamberMaster//Event Calendar 2.0//EN
METHOD:PUBLISH
X-PUBLISHED-TTL:P3D
REFRESH-INTERVAL:P3D
CALSCALE:GREGORIAN
BEGIN:VEVENT
DTSTART:20200111T140000Z
DTEND:20200111T160000Z
X-MICROSOFT-CDO-ALLDAYEVENT:FALSE
SUMMARY:In Search of Eagles along the Fox River and at Geneva Lake
DESCRIPTION:Celebrate the return of eagles to the Fox River Valley with Hackmatack National Wildlife Refuge on Saturday\, January 11. Representatives from the U.S. Fish and Wildlife Service\, Friends of Hackmatack National Wildlife Refuge\, Illinois Department of Natural Resources\, and McHenry County Audubon will be on hand from 8:00 am to 10:00 am at locations along the Fox River and at Geneva Lake to help search for eagles and other birds using area waterways. Volunteers and USFWS staff will be sharing views through spotting scopes and binoculars and helping novices identify the birds they see at the McHenry Dam\, the Algonquin Dam\, and the Carpenter Dam in Illinois and at Fontana Beach on Geneva Lake in Wisconsin.
X-ALT-DESC;FMTTYPE=text/html:<span style="color:#222222\;"><span style="font-family:times new roman\,serif\;"><span style="font-size:12.0pt\;">Celebrate the return of eagles to the Fox River Valley with Hackmatack National Wildlife Refuge on Saturday\, January 11. Representatives from the U.S. Fish and Wildlife Service\, Friends of Hackmatack National Wildlife Refuge\, Illinois Department of Natural Resources\, and McHenry County Audubon will be on hand from 8:00 am to 10:00 am at locations along the Fox River and at Geneva Lake to help search for eagles and other birds using area waterways. </span></span></span><span style="font-family:times new roman\,serif\;"><span style="font-size:12.0pt\;">Volunteers and USFWS staff will be sharing views through spotting scopes and binoculars and helping novices identify the birds they see<span style="color:#222222\;"> at the <strong>McHenry Dam\, the Algonquin Dam\, and the Carpenter Dam in Illinois and at Fontana Beach on Geneva Lake in Wisconsin.</strong></span></span></span>
LOCATION:http://mccd.me/EagleMap20 McHenry Dam\, the Algonquin Dam\, and the Carpenter Dam in Illinois and at Fontana Beach on Geneva Lake in Wisconsin.
UID:e.2066.3178
SEQUENCE:3
DTSTAMP:20260424T172142Z
URL:https://dev.chainolakeschamber.com/events/details/in-search-of-eagles-along-the-fox-river-and-at-geneva-lake-3178
END:VEVENT

END:VCALENDAR
