BEGIN:VCALENDAR
VERSION:2.0
PRODID:-//ChamberMaster//Event Calendar 2.0//EN
METHOD:PUBLISH
X-PUBLISHED-TTL:P3D
REFRESH-INTERVAL:P3D
CALSCALE:GREGORIAN
BEGIN:VEVENT
DTSTART:20230815T140500Z
DTEND:20230815T152500Z
X-MICROSOFT-CDO-ALLDAYEVENT:FALSE
SUMMARY:Improve Your Business Writing
DESCRIPTION:Professionals who can write well are far more valuable to an organization than those whose business writing is confusing and filled with errors. In this 90-minute session\, you will learn about the 5Cs to get others to read\, understand\, enjoy and agree with your written messages. Applying these techniques will make your documents:   More concise   More audience centered   More complete   More correct   More clear
X-ALT-DESC;FMTTYPE=text/html:Professionals who can write well are far more valuable to an organization than those whose business writing is confusing and filled with errors. In this 90-minute session\, you will learn about the 5Cs to get others to read\, understand\, enjoy and agree with your written messages. Applying these techniques will make your documents: &bull\; More concise &bull\; More audience centered &bull\; More complete &bull\; More correct &bull\; More clear
LOCATION:Live Zoom
UID:e.2066.5336
SEQUENCE:3
DTSTAMP:20260419T121136Z
URL:https://dev.chainolakeschamber.com/events/details/improve-your-business-writing-5336
END:VEVENT

END:VCALENDAR
