BEGIN:VCALENDAR
VERSION:2.0
PRODID:-//ChamberMaster//Event Calendar 2.0//EN
METHOD:PUBLISH
X-PUBLISHED-TTL:P3D
REFRESH-INTERVAL:P3D
CALSCALE:GREGORIAN
BEGIN:VEVENT
DTSTART:20230516T150000Z
DTEND:20230516T160000Z
X-MICROSOFT-CDO-ALLDAYEVENT:FALSE
SUMMARY:Illinois Secure Choice - New State Law Impacting Small Businesses
DESCRIPTION:Illinois state law now requires that every employer that has been in business for at least 2 years and that has 5 or more Illinois employees must offer their own qualified retirement plan or facilitate the Illinois Secure Choice retirement savings program. In this session\, the Illinois State Treasurer's Office will cover the specifics of the state law and provide an overview of how Illinois Secure Choice works and how easy it is for businesses to facilitate retirement savings for their employees.
X-ALT-DESC;FMTTYPE=text/html:Illinois state law now requires that every employer that has been in business for at least 2 years and that has 5 or more Illinois employees must offer their own qualified retirement plan or facilitate the Illinois Secure Choice retirement savings program. In this session\, the Illinois State Treasurer&rsquo\;s Office will cover the specifics of the state law and provide an overview of how Illinois Secure Choice works and how easy it is for businesses to facilitate retirement savings for their employees.
LOCATION:Live Zoom
UID:e.2066.5040
SEQUENCE:3
DTSTAMP:20260419T171723Z
URL:https://dev.chainolakeschamber.com/events/details/illinois-secure-choice-new-state-law-impacting-small-businesses-5040
END:VEVENT

END:VCALENDAR
