BEGIN:VCALENDAR
VERSION:2.0
PRODID:-//ChamberMaster//Event Calendar 2.0//EN
METHOD:PUBLISH
X-PUBLISHED-TTL:P3D
REFRESH-INTERVAL:P3D
CALSCALE:GREGORIAN
BEGIN:VEVENT
DTSTART:20230321T140000Z
DTEND:20230321T160000Z
X-MICROSOFT-CDO-ALLDAYEVENT:FALSE
SUMMARY:IL Small Biz Dev/College of Lake County - DiSC
DESCRIPTION:Get along with anyone\, even if you're not a "people person." Everyone you encounter is motivated differently\, communicates differently\, and views tasks and relationships differently. The Maxwell DISC Profile Workshop will help you achieve greater success when you learn to value your strengths as well as those of others.
X-ALT-DESC;FMTTYPE=text/html:Get along with anyone\, even if you&#39\;re not a &quot\;people person.&quot\; Everyone you encounter is motivated differently\, communicates differently\, and views tasks and relationships differently. The Maxwell DISC Profile Workshop will help you achieve greater success when you learn to value your strengths as well as those of others.
LOCATION:Live Zoom
UID:e.2066.4925
SEQUENCE:3
DTSTAMP:20260419T203856Z
URL:https://dev.chainolakeschamber.com/events/details/il-small-biz-dev-college-of-lake-county-disc-4925
END:VEVENT

END:VCALENDAR
