BEGIN:VCALENDAR
VERSION:2.0
PRODID:-//ChamberMaster//Event Calendar 2.0//EN
METHOD:PUBLISH
X-PUBLISHED-TTL:P3D
REFRESH-INTERVAL:P3D
CALSCALE:GREGORIAN
BEGIN:VEVENT
DTSTART:20210301T230000Z
DTEND:20210302T000000Z
X-MICROSOFT-CDO-ALLDAYEVENT:FALSE
SUMMARY:Identity Theft Workshop
DESCRIPTION:In light of the uptick in identity theft and fraud in Illinois\, on Monday\, March 1st at 5pm Tom Weber will be hosting an online identity theft workshop. At the workshop you'll learn how to identify potential scams/fraud\, protect yourself against identity theft\, and understand the importance of securing your personal information. There will also be an update on fraudulent claims being filed through the Illinois Department of Employment Security (IDES)
X-ALT-DESC;FMTTYPE=text/html:<span class="d2edcug0 hpfvmrgz qv66sw1b c1et5uql rrkovp55 a8c37x1j keod5gw0 nxhoafnm aigsh9s9 d3f4x2em fe6kdd0r mau55g9w c8b282yb iv3no6db jq4qci2q a3bd9o3v knj5qynh oo9gr5id hzawbc8m" dir="auto">In light of the uptick in identity theft and fraud in Illinois\, on Monday\, March 1st at 5pm Tom Weber will be hosting an online identity theft workshop. At the workshop you&#39\;ll learn how to identify potential scams/fraud\, protect yourself against identity theft\, and understand the importance of securing your personal information. There will also be an update on fraudulent claims being filed through the Illinois Department of Employment Security (IDES)</span>
LOCATION:Virtual You can participate in the workshop on Facebook live or register for the webinar via Zoom
UID:e.2066.3863
SEQUENCE:3
DTSTAMP:20260423T174052Z
URL:https://dev.chainolakeschamber.com/events/details/identity-theft-workshop-3863
END:VEVENT

END:VCALENDAR
