BEGIN:VCALENDAR
VERSION:2.0
PRODID:-//ChamberMaster//Event Calendar 2.0//EN
METHOD:PUBLISH
X-PUBLISHED-TTL:P3D
REFRESH-INTERVAL:P3D
CALSCALE:GREGORIAN
BEGIN:VEVENT
DTSTART:20190803T160000Z
DTEND:20190803T190000Z
X-MICROSOFT-CDO-ALLDAYEVENT:FALSE
SUMMARY:Ice Cream Social for You and Your Pooch & pet nail clipping
DESCRIPTION:
X-ALT-DESC;FMTTYPE=text/html:
LOCATION:Nature's Feed 2440 Westward Spring Grove
UID:e.2066.2954
SEQUENCE:3
DTSTAMP:20260425T010933Z
URL:https://dev.chainolakeschamber.com/events/details/ice-cream-social-for-you-and-your-pooch-pet-nail-clipping-2954
END:VEVENT

END:VCALENDAR
