BEGIN:VCALENDAR
VERSION:2.0
PRODID:-//ChamberMaster//Event Calendar 2.0//EN
METHOD:PUBLISH
X-PUBLISHED-TTL:P3D
REFRESH-INTERVAL:P3D
CALSCALE:GREGORIAN
BEGIN:VEVENT
DTSTART:20220730T160000Z
DTEND:20220730T190000Z
X-MICROSOFT-CDO-ALLDAYEVENT:FALSE
SUMMARY:Ice Cream Social for Pooches & People!
DESCRIPTION:Join us for our annual Ice Cream Social! Ice cream for both pooches & people!     : July 30\, 2022    : 11am - 2pm \n\n \n\nDonations support the shelters on site. \n\nDog ice cream provided by The Bear and the Rat.
X-ALT-DESC;FMTTYPE=text/html:<div style="color: rgb(68\, 68\, 68)\; font-family: Calibri\, Helvetica\, Arial\, sans-serif\; font-size: 16px\; white-space: pre-wrap\; background-color: rgb(255\, 255\, 255)\; text-align: center\;"><span style="font-size: 18px\; font-family: Roboto\, sans-serif\; color: rgb(119\, 119\, 119)\;">Join us for our annual Ice Cream Social! Ice cream for both pooches &amp\; people! &#120279\;&#120302\;&#120321\;&#120306\;: July 30\, 2022&#120295\;&#120310\;&#120314\;&#120306\;: 11am - 2pm </span></div>\n\n<div style="color: rgb(68\, 68\, 68)\; font-family: Calibri\, Helvetica\, Arial\, sans-serif\; font-size: 16px\; white-space: pre-wrap\; background-color: rgb(255\, 255\, 255)\; text-align: center\;">&nbsp\;</div>\n\n<div style="color: rgb(68\, 68\, 68)\; font-family: Calibri\, Helvetica\, Arial\, sans-serif\; font-size: 16px\; white-space: pre-wrap\; background-color: rgb(255\, 255\, 255)\; text-align: center\;"><span style="font-size: 18px\; font-family: Roboto\, sans-serif\; color: rgb(119\, 119\, 119)\;">Donations support the shelters on site. </span></div>\n\n<div style="color: rgb(68\, 68\, 68)\; font-family: Calibri\, Helvetica\, Arial\, sans-serif\; font-size: 16px\; white-space: pre-wrap\; background-color: rgb(255\, 255\, 255)\; text-align: center\;"><span style="font-size: 18px\; font-family: Roboto\, sans-serif\; color: rgb(119\, 119\, 119)\;">Dog ice cream provided by The Bear and the Rat.</span></div>\n
LOCATION:Nature's Feed\, 2440 Westward Dr\, Spring Grove\, IL 60081
UID:e.2066.4576
SEQUENCE:3
DTSTAMP:20260422T160340Z
URL:https://dev.chainolakeschamber.com/events/details/ice-cream-social-for-pooches-people-4576
END:VEVENT

END:VCALENDAR
