BEGIN:VCALENDAR
VERSION:2.0
PRODID:-//ChamberMaster//Event Calendar 2.0//EN
METHOD:PUBLISH
X-PUBLISHED-TTL:P3D
REFRESH-INTERVAL:P3D
CALSCALE:GREGORIAN
BEGIN:VEVENT
DTSTART:20220921T140000Z
DTEND:20220922T000000Z
X-MICROSOFT-CDO-ALLDAYEVENT:FALSE
SUMMARY:Hump Day Classic Golf Outing
DESCRIPTION:FOURSOME SLOTS FILLED
X-ALT-DESC;FMTTYPE=text/html:FOURSOME SLOTS FILLED
LOCATION:Fox Lake Country Club 7220 State Park Rd\, Fox Lake\, IL
UID:e.2066.4493
SEQUENCE:3
DTSTAMP:20260422T120518Z
URL:https://dev.chainolakeschamber.com/events/details/hump-day-classic-golf-outing-4493
END:VEVENT

END:VCALENDAR
