BEGIN:VCALENDAR
VERSION:2.0
PRODID:-//ChamberMaster//Event Calendar 2.0//EN
METHOD:PUBLISH
X-PUBLISHED-TTL:P3D
REFRESH-INTERVAL:P3D
CALSCALE:GREGORIAN
BEGIN:VEVENT
DTSTART:20210915T140000Z
DTEND:20210915T233000Z
X-MICROSOFT-CDO-ALLDAYEVENT:FALSE
SUMMARY:Hump Day Classic - Driving Business Forward - Golf Outing
DESCRIPTION:Hump Day Classic -\n\nDriving Business Forward  GOLF OUTING\n\n18 Hole Scramble with cart\, lunch and dinner\n\n20 OZ Prime Rib Dinner \n\n\n\nHelicopter ball drop\n\nContests on the course\n\n50/50 Raffle\n\n\n\nTo view the flyer\n\nClick Here
X-ALT-DESC;FMTTYPE=text/html:<span style="font-size:18px\;"><span style="font-family:tahoma\;"><strong>Hump Day Classic -<br />\nDriving Business Forward&nbsp\; GOLF OUTING</strong></span></span><br />\n<strong>18 Hole Scramble with cart\, lunch and dinner</strong><br />\n<strong>20 OZ Prime Rib Dinner </strong><br />\n<br />\nHelicopter ball drop<br />\nContests on the course<br />\n50/50 Raffle<br />\n<br />\nTo view the flyer<br />\n<a href="https://chambermaster.blob.core.windows.net/userfiles/UserFiles/chambers/2066/File/GolfPoster.pdf">Click Here</a>
LOCATION:Fox Lake Country Club 7220 State Park Road Fox Lake\, IL 60020
UID:e.2066.3860
SEQUENCE:3
DTSTAMP:20260423T083320Z
URL:https://dev.chainolakeschamber.com/events/details/hump-day-classic-driving-business-forward-golf-outing-3860
END:VEVENT

END:VCALENDAR
