BEGIN:VCALENDAR
VERSION:2.0
PRODID:-//ChamberMaster//Event Calendar 2.0//EN
METHOD:PUBLISH
X-PUBLISHED-TTL:P3D
REFRESH-INTERVAL:P3D
CALSCALE:GREGORIAN
BEGIN:VEVENT
DTSTART:20221025T170000Z
DTEND:20221025T180000Z
X-MICROSOFT-CDO-ALLDAYEVENT:FALSE
SUMMARY:How a Police Social Worker Can Help
DESCRIPTION:Please join us for this serious topic. Julie will be discussing different types of abuse\, what services a police social worker can provide\, types of protective court orders\, and how to get assistance for people in need assistance for mental health issues\, substance abuse\, or domestic violence.
X-ALT-DESC;FMTTYPE=text/html:<span style="font-family:arial\,sans-serif"><span style="font-size:16.0pt">Please join us for this serious topic. Julie will be discussing different types of abuse\, what services a police social worker can provide\, types of protective court orders\, and how to get assistance for people in need assistance for mental health issues\, substance abuse\, or domestic violence. </span></span>
LOCATION:Zoom
UID:e.2066.4651
SEQUENCE:3
DTSTAMP:20260422T105536Z
URL:https://dev.chainolakeschamber.com/events/details/how-a-police-social-worker-can-help-4651
END:VEVENT

END:VCALENDAR
