BEGIN:VCALENDAR
VERSION:2.0
PRODID:-//ChamberMaster//Event Calendar 2.0//EN
METHOD:PUBLISH
X-PUBLISHED-TTL:P3D
REFRESH-INTERVAL:P3D
CALSCALE:GREGORIAN
BEGIN:VEVENT
DTSTART:20211106T212500Z
DTEND:20211106T233000Z
X-MICROSOFT-CDO-ALLDAYEVENT:FALSE
SUMMARY:Hope for the Holidays - A curated wine event for Allendale
DESCRIPTION:Allendale Shelter Club in partnership with Courtyard Wines invite you to HOPE FOR THE HOLIDAYS!\n\n\n\nSaturday\, November 6\, 2021 4:30 p.m. - 6:30 p.m. Come shop around Lake Forest's very own historic Market Square while enjoying a tasting of specially curated wines from Courtyard Wines.\n\n\n\n3 ways to support the youth at Allendale:\n\nAttend November 6\, Shopping/Wine Tasting Event - (10% of Sales come to Allendale!)\n\nPurchase Curated Wine: November 1 - November 30th! (10% of Sales come to Allendale!)\n\nSponsor the Hope for the Holidays - Benefits good all November!\n\n\n\nHave Questions\, Call: 847.245.6216 to register Today! All donations are matched 100%
X-ALT-DESC;FMTTYPE=text/html:<span style="color:rgba(0\, 0\, 0\, 0.9)\; font-family:-apple-system\,system-ui\,blinkmacsystemfont\,segoe ui\,roboto\,helvetica neue\,fira sans\,ubuntu\,oxygen\,oxygen sans\,cantarell\,droid sans\,apple color emoji\,segoe ui emoji\,segoe ui emoji\,segoe ui symbol\,lucida grande\,helvetica\,arial\,sans-serif\; font-size:14px">Allendale Shelter Club in partnership with Courtyard Wines invite you to HOPE FOR THE HOLIDAYS!</span><br />\n<br />\n<span style="color:rgba(0\, 0\, 0\, 0.9)\; font-family:-apple-system\,system-ui\,blinkmacsystemfont\,segoe ui\,roboto\,helvetica neue\,fira sans\,ubuntu\,oxygen\,oxygen sans\,cantarell\,droid sans\,apple color emoji\,segoe ui emoji\,segoe ui emoji\,segoe ui symbol\,lucida grande\,helvetica\,arial\,sans-serif\; font-size:14px">Saturday\, November 6\, 2021 4:30 p.m. - 6:30 p.m. Come shop around Lake Forest&rsquo\;s very own historic Market Square while enjoying a tasting of specially curated wines from Courtyard Wines.</span><br />\n<br />\n<span style="color:rgba(0\, 0\, 0\, 0.9)\; font-family:-apple-system\,system-ui\,blinkmacsystemfont\,segoe ui\,roboto\,helvetica neue\,fira sans\,ubuntu\,oxygen\,oxygen sans\,cantarell\,droid sans\,apple color emoji\,segoe ui emoji\,segoe ui emoji\,segoe ui symbol\,lucida grande\,helvetica\,arial\,sans-serif\; font-size:14px">3 ways to support the youth at Allendale:</span><br />\n<a href="https://allendale4kids.org/asc/" style="box-sizing: border-box\; color: rgb(34\, 72\, 132)\; text-decoration-line: none\; background-color: transparent\; overflow-wrap: break-word\; font-family: Arial\, Helvetica\, sans-serif\; font-size: 16px\;"><span style="color:rgba(0\, 0\, 0\, 0.9)\; font-family:-apple-system\,system-ui\,blinkmacsystemfont\,segoe ui\,roboto\,helvetica neue\,fira sans\,ubuntu\,oxygen\,oxygen sans\,cantarell\,droid sans\,apple color emoji\,segoe ui emoji\,segoe ui emoji\,segoe ui symbol\,lucida grande\,helvetica\,arial\,sans-serif\; font-size:14px">Attend November 6\, Shopping/Wine Tasting Event - (10% of Sales come to Allendale!)</span><br />\n<span style="color:rgba(0\, 0\, 0\, 0.9)\; font-family:-apple-system\,system-ui\,blinkmacsystemfont\,segoe ui\,roboto\,helvetica neue\,fira sans\,ubuntu\,oxygen\,oxygen sans\,cantarell\,droid sans\,apple color emoji\,segoe ui emoji\,segoe ui emoji\,segoe ui symbol\,lucida grande\,helvetica\,arial\,sans-serif\; font-size:14px">Purchase Curated Wine: November 1 - November 30th! (10% of Sales come to Allendale!)</span><br />\n<span style="color:rgba(0\, 0\, 0\, 0.9)\; font-family:-apple-system\,system-ui\,blinkmacsystemfont\,segoe ui\,roboto\,helvetica neue\,fira sans\,ubuntu\,oxygen\,oxygen sans\,cantarell\,droid sans\,apple color emoji\,segoe ui emoji\,segoe ui emoji\,segoe ui symbol\,lucida grande\,helvetica\,arial\,sans-serif\; font-size:14px">Sponsor the Hope for the Holidays - Benefits good all November!</span></a><br />\n<br />\n<span style="color:rgba(0\, 0\, 0\, 0.9)\; font-family:-apple-system\,system-ui\,blinkmacsystemfont\,segoe ui\,roboto\,helvetica neue\,fira sans\,ubuntu\,oxygen\,oxygen sans\,cantarell\,droid sans\,apple color emoji\,segoe ui emoji\,segoe ui emoji\,segoe ui symbol\,lucida grande\,helvetica\,arial\,sans-serif\; font-size:14px">Have Questions\, Call: 847.245.6216 to register Today! All donations are matched 100%</span>
LOCATION:Market Square 264 Market Square\, Lake Forest\, IL 60045
UID:e.2066.4140
SEQUENCE:3
DTSTAMP:20260423T051428Z
URL:https://dev.chainolakeschamber.com/events/details/hope-for-the-holidays-a-curated-wine-event-for-allendale-4140
END:VEVENT

END:VCALENDAR
