BEGIN:VCALENDAR
VERSION:2.0
PRODID:-//ChamberMaster//Event Calendar 2.0//EN
METHOD:PUBLISH
X-PUBLISHED-TTL:P3D
REFRESH-INTERVAL:P3D
CALSCALE:GREGORIAN
BEGIN:VEVENT
DTSTART:20231109T000000Z
DTEND:20231109T010000Z
X-MICROSOFT-CDO-ALLDAYEVENT:FALSE
SUMMARY:Homebuyer Education Course by Old National Bank
DESCRIPTION:Buying a home is a big deal! Gain the confidence you need to make decisions\n\nthat are right for you. Our virtual workshop will address questions about down payments\, credit scores and how much home you can afford.
X-ALT-DESC;FMTTYPE=text/html:<div dir="auto" style="font-family: &quot\;Segoe UI Historic&quot\;\, &quot\;Segoe UI&quot\;\, Helvetica\, Arial\, sans-serif\; color: rgb(5\, 5\, 5)\; font-size: 15px\; white-space-collapse: preserve\;">Buying a home is a big deal! Gain the confidence you need to make decisions</div>\n\n<div dir="auto" style="font-family: &quot\;Segoe UI Historic&quot\;\, &quot\;Segoe UI&quot\;\, Helvetica\, Arial\, sans-serif\; color: rgb(5\, 5\, 5)\; font-size: 15px\; white-space-collapse: preserve\;">that are right for you. Our virtual workshop will address questions about down payments\, credit scores and how much home you can afford.</div>\n
LOCATION:Virtual RSVP at website
UID:e.2066.5795
SEQUENCE:3
DTSTAMP:20260419T130032Z
URL:https://dev.chainolakeschamber.com/events/details/homebuyer-education-course-by-old-national-bank-5795
END:VEVENT

END:VCALENDAR
