BEGIN:VCALENDAR
VERSION:2.0
PRODID:-//ChamberMaster//Event Calendar 2.0//EN
METHOD:PUBLISH
X-PUBLISHED-TTL:P3D
REFRESH-INTERVAL:P3D
CALSCALE:GREGORIAN
BEGIN:VEVENT
DTSTART:20230113T000000Z
DTEND:20230113T020000Z
X-MICROSOFT-CDO-ALLDAYEVENT:FALSE
SUMMARY:Health & Hope Night with Gale Force Health LLC
DESCRIPTION:Create Sustainable Health in all Areas of Your Life\n\n \n\n\nThe Event Itinerary for Thursday\, January 12th\n\n\n\n \n\n\n\n6:00pm-6:15pm: Registration & Connecting\n\n6:15pm-7:00pm: Create Optimal Health  in\n\nYour Life\n\n7:00-7:15 Mix & mingle\n\n7:15pm-8:00pm: Optional Mastermind Session\n\n\n\nWe will discuss your journey to optimal health and how to achieve this in your life. This will consist of an in-depth discussion on your body\, mind\, and finances because all three of these areas must work in conjunction in order to achieve your desired goals.\n\n\n\nBody: Maintain your ideal weight\, improve your quality of sleep\, optimize your movement\n\n\n\nMind: Enhance your relationships\, experience life fulfillment\, develop your spirituality\n\n\n\nFinances: Become abundant\, achieve freedom\, access resources to create memories\n\n\n\nDuring this session\, I will share specific strategies that will set you on the right track to achieving sustainable health and vitality and towards the conclusion of our event\, you'll be introduced to an opportunity of a lifetime.\n\n\n\nThis is your chance to also learn about becoming a Health Coach\, which is by far the most rewarding career path based on the potential contributions and financial rewards associated with this decision.
X-ALT-DESC;FMTTYPE=text/html:<span style="font-size:11px\;">Create Sustainable Health in all Areas of Your Life</span><br />\n&nbsp\;\n<div class="panel-pane pane-custom pane-7 landing-page__headline--4" id="landing-page-header" style="font-family: Roboto\; font-size: 2rem\; font-style: italic\; font-weight: bold\; text-align: center\; color: rgb(118\, 51\, 13)\; margin: 0px auto\; max-width: 800px\; width: 800px\; background-color: rgb(244\, 244\, 244)\;">\n<div class="pane-content">\n<p style="margin: 0px\;"><span style="font-size:11px\;">The Event Itinerary for Thursday\, January 12th</span></p>\n</div>\n</div>\n\n<div class="panel-separator" style="color: rgb(96\, 96\, 96)\; font-family: Roboto\, sans-serif\; font-size: 16px\; background-color: rgb(244\, 244\, 244)\;">&nbsp\;</div>\n\n<div class="panel-pane pane-custom pane-8" style="color: rgb(96\, 96\, 96)\; font-family: Roboto\, sans-serif\; font-size: 16px\; background-color: rgb(244\, 244\, 244)\;">\n<div class="pane-content">\n<p><span style="font-size:11px\;">6:00pm-6:15pm: Registration &amp\; Connecting<br />\n6:15pm-7:00pm: Create Optimal Health&trade\; in<br />\nYour Life<br />\n7:00-7:15 Mix &amp\; mingle<br />\n7:15pm-8:00pm: Optional Mastermind Session<br />\n<br />\nWe will discuss your journey to optimal health and how to achieve this in your life. This will consist of an in-depth discussion on your body\, mind\, and finances because all three of these areas must work in conjunction in order to achieve your desired goals.<br />\n<br />\nBody: Maintain your ideal weight\, improve your quality of sleep\, optimize your movement<br />\n<br />\nMind: Enhance your relationships\, experience life fulfillment\, develop your spirituality<br />\n<br />\nFinances: Become abundant\, achieve freedom\, access resources to create memories<br />\n<br />\nDuring this session\, I will share specific strategies that will set you on the right track to achieving sustainable health and vitality and towards the conclusion of our event\, you&rsquo\;ll be introduced to an opportunity of a lifetime.<br />\n<br />\nThis is your chance to also learn about becoming a Health Coach\, which is by far the most rewarding career path based on the potential contributions and financial rewards associated with this decision.</span></p>\n</div>\n</div>\n
LOCATION:405 East Congress Parkway Crystal Lake 60014-6266 United States
UID:e.2066.4932
SEQUENCE:3
DTSTAMP:20260420T021848Z
URL:https://dev.chainolakeschamber.com/events/details/health-hope-night-with-gale-force-health-llc-4932
END:VEVENT

END:VCALENDAR
