BEGIN:VCALENDAR
VERSION:2.0
PRODID:-//ChamberMaster//Event Calendar 2.0//EN
METHOD:PUBLISH
X-PUBLISHED-TTL:P3D
REFRESH-INTERVAL:P3D
CALSCALE:GREGORIAN
BEGIN:VEVENT
DTSTART:20221025T213000Z
DTEND:20221025T220000Z
X-MICROSOFT-CDO-ALLDAYEVENT:FALSE
SUMMARY:Head Shot Make-Up Day
DESCRIPTION:Head Shot Make Up Day
X-ALT-DESC;FMTTYPE=text/html:Head Shot Make Up Day
LOCATION:
UID:e.2066.4861
SEQUENCE:3
DTSTAMP:20260422T110224Z
URL:https://dev.chainolakeschamber.com/events/details/head-shot-make-up-day-4861
END:VEVENT

END:VCALENDAR
