BEGIN:VCALENDAR
VERSION:2.0
PRODID:-//ChamberMaster//Event Calendar 2.0//EN
METHOD:PUBLISH
X-PUBLISHED-TTL:P3D
REFRESH-INTERVAL:P3D
CALSCALE:GREGORIAN
BEGIN:VEVENT
DTSTART:20221015T000000Z
DTEND:20221016T033000Z
X-MICROSOFT-CDO-ALLDAYEVENT:FALSE
SUMMARY:Haunted Hayride - Wonder Lake Water Ski Show Team
DESCRIPTION:Have a Spooky great time at the annual Haunted Hayride hosted by the Wonder Lake Water Ski Show Team!
X-ALT-DESC;FMTTYPE=text/html:Have a Spooky great time at the annual Haunted Hayride hosted by the Wonder Lake Water Ski Show Team!
LOCATION:Peterson Park\, McHenry
UID:e.2066.4628
SEQUENCE:3
DTSTAMP:20260422T111733Z
URL:https://dev.chainolakeschamber.com/events/details/haunted-hayride-wonder-lake-water-ski-show-team-4628
END:VEVENT

END:VCALENDAR
