BEGIN:VCALENDAR
VERSION:2.0
PRODID:-//ChamberMaster//Event Calendar 2.0//EN
METHOD:PUBLISH
X-PUBLISHED-TTL:P3D
REFRESH-INTERVAL:P3D
CALSCALE:GREGORIAN
BEGIN:VEVENT
DTSTART:20181014T000000Z
DTEND:20181014T033000Z
X-MICROSOFT-CDO-ALLDAYEVENT:FALSE
SUMMARY:Haunted Hayride by the Wonder Lake Water Ski Show Team
DESCRIPTION:The Haunted Hayride presented by the Wonder Lake Water Ski Show Team \n\n\n\n\n\nDescription:\n\nMid-October is when Henry Deadwood emerges on Peterson Park in McHenry. To him this place is known as 'Deadwood Forest' where he and his gangling group of relatives and misfits entertain spirits\, ghosts and goblins. Embark on this haunted hayride and you too can get a glimpse of this terrifying group. The Haunted Hayride comes to you from the talents of the Wonder Lake Water Ski Show Team\, their family and friends. Tickets $8/person with a portion of the proceeds donated to a local food pantry.
X-ALT-DESC;FMTTYPE=text/html:<span style="color:black\;"><span style="font-family:calibri\,sans-serif\;"><span style="font-size:12.0pt\;">The <strong><span style="font-family:calibri\,sans-serif\;">Haunted Hayride</span></strong> presented by the Wonder Lake Water Ski Show Team </span></span></span><br />\n<br />\n<br />\n<u><span style="color:black\;"><span style="font-size:12.0pt\;">Description:</span></span></u><br />\n<span style="color:black\;"><span style="font-size:12.0pt\;">Mid-October is when Henry Deadwood emerges on Peterson Park in McHenry. To him this place is known as &lsquo\;Deadwood Forest&rsquo\; where he and his gangling group of relatives and misfits entertain spirits\, ghosts and goblins. Embark on this haunted hayride and you too can get a glimpse of this terrifying group. The Haunted Hayride comes to you from the talents of the Wonder Lake Water Ski Show Team\, their family and friends. Tickets $8/person with a portion of the proceeds donated to a local food pantry.</span></span><br />\n&nbsp\;<br />\n&nbsp\;<br />\n&nbsp\;
LOCATION:Peterson Park- McHenry IL
UID:e.2066.1206
SEQUENCE:3
DTSTAMP:20260425T165556Z
URL:https://dev.chainolakeschamber.com/events/details/haunted-hayride-by-the-wonder-lake-water-ski-show-team-10-13-2018-1206
END:VEVENT

END:VCALENDAR
