BEGIN:VCALENDAR
VERSION:2.0
PRODID:-//ChamberMaster//Event Calendar 2.0//EN
METHOD:PUBLISH
X-PUBLISHED-TTL:P3D
REFRESH-INTERVAL:P3D
CALSCALE:GREGORIAN
BEGIN:VEVENT
DTSTART:20190917T220000Z
DTEND:20190918T003000Z
X-MICROSOFT-CDO-ALLDAYEVENT:FALSE
SUMMARY:Harvest the Happenings
DESCRIPTION:Multi Chamber Mixer\n\n\n\nSip on spiked slow-cooker white cocoa. Caramelize your own cinnamon apple slices or dig into our popcorn bar.\n\n\n\nThe evening will include raffles\, program education and a panel discussion
X-ALT-DESC;FMTTYPE=text/html:Multi Chamber Mixer<br />\n<br />\nSip on spiked slow-cooker white cocoa. Caramelize your own cinnamon apple slices or dig into our popcorn bar.<br />\n<br />\nThe evening will include raffles\, program education and a panel discussion
LOCATION:Pioneer Center for Human Services 4001 Dayton St McHenry\, Il
UID:e.2066.2991
SEQUENCE:3
DTSTAMP:20260424T233348Z
URL:https://dev.chainolakeschamber.com/events/details/harvest-the-happenings-2991
END:VEVENT

END:VCALENDAR
