BEGIN:VCALENDAR
VERSION:2.0
PRODID:-//ChamberMaster//Event Calendar 2.0//EN
METHOD:PUBLISH
X-PUBLISHED-TTL:P3D
REFRESH-INTERVAL:P3D
CALSCALE:GREGORIAN
BEGIN:VEVENT
DTSTART:20230812T030000Z
DTEND:20230814T000000Z
X-MICROSOFT-CDO-ALLDAYEVENT:FALSE
SUMMARY:Harper G! Mercantile Sidewalk Sale
DESCRIPTION:Who's ready for a Sidewalk Sale? Join us at Harper G! And Finery & Finishes August 11-13\, in beautiful downtown Richmond. So many good deals.
X-ALT-DESC;FMTTYPE=text/html:<span style="color: rgb(5\, 5\, 5)\; font-family: &quot\;Segoe UI Historic&quot\;\, &quot\;Segoe UI&quot\;\, Helvetica\, Arial\, sans-serif\; font-size: 15px\;">Who&#39\;s ready for a Sidewalk Sale?</span><span style="color: rgb(5\, 5\, 5)\; font-family: &quot\;Segoe UI Historic&quot\;\, &quot\;Segoe UI&quot\;\, Helvetica\, Arial\, sans-serif\; font-size: 15px\;">&nbsp\;Join us at Harper G! And Finery &amp\; Finishes August 11-13\, in beautiful downtown Richmond. So many good deals.</span>
LOCATION:Downtown Richmond on Broadway
UID:e.2066.5372
SEQUENCE:3
DTSTAMP:20260419T135400Z
URL:https://dev.chainolakeschamber.com/events/details/harper-g-mercantile-sidewalk-sale-5372
END:VEVENT

END:VCALENDAR
