BEGIN:VCALENDAR
VERSION:2.0
PRODID:-//ChamberMaster//Event Calendar 2.0//EN
METHOD:PUBLISH
X-PUBLISHED-TTL:P3D
REFRESH-INTERVAL:P3D
CALSCALE:GREGORIAN
BEGIN:VEVENT
DTSTART:20211023T133000Z
DTEND:20211023T153000Z
X-MICROSOFT-CDO-ALLDAYEVENT:FALSE
SUMMARY:Haloween Hustle - Fun Run
DESCRIPTION:1 mile- kids (ages 5-12) FUN RUN\n\n5K walk/run\n\n10K run
X-ALT-DESC;FMTTYPE=text/html:1 mile- kids (ages 5-12) FUN RUN<br />\n5K walk/run<br />\n10K run
LOCATION:Grant Woods Forrest Preserve 25405 W Monaville Rd Ingleside
UID:e.2066.4153
SEQUENCE:3
DTSTAMP:20260423T065317Z
URL:https://dev.chainolakeschamber.com/events/details/haloween-hustle-fun-run-4153
END:VEVENT

END:VCALENDAR
