BEGIN:VCALENDAR
VERSION:2.0
PRODID:-//ChamberMaster//Event Calendar 2.0//EN
METHOD:PUBLISH
X-PUBLISHED-TTL:P3D
REFRESH-INTERVAL:P3D
CALSCALE:GREGORIAN
BEGIN:VEVENT
DTSTART:20221008T160000Z
DTEND:20221008T190000Z
X-MICROSOFT-CDO-ALLDAYEVENT:FALSE
SUMMARY:Halloween Pet Photos
DESCRIPTION:Bring your pets to Nature's Feed for our annual Halloween Pet Photos. Donations benefit Young At Heart Animal Rescue
X-ALT-DESC;FMTTYPE=text/html:Bring your pets to Nature&#39\;s Feed for our annual Halloween Pet Photos. Donations benefit Young At Heart Animal Rescue
LOCATION:2440 Westward Dr\, Spring Grove\, IL 60081
UID:e.2066.4584
SEQUENCE:3
DTSTAMP:20260422T120517Z
URL:https://dev.chainolakeschamber.com/events/details/halloween-pet-photos-4584
END:VEVENT

END:VCALENDAR
