BEGIN:VCALENDAR
VERSION:2.0
PRODID:-//ChamberMaster//Event Calendar 2.0//EN
METHOD:PUBLISH
X-PUBLISHED-TTL:P3D
REFRESH-INTERVAL:P3D
CALSCALE:GREGORIAN
BEGIN:VEVENT
DTSTART:20210427T140000Z
DTEND:20210427T150000Z
X-MICROSOFT-CDO-ALLDAYEVENT:FALSE
SUMMARY:Grow Your Business with Seed\, Series A\, B and C Funding
DESCRIPTION:Learn the ins and outs of seed funding\, what it means for your company\, and what to look out for to ensure you are making the right choice for your ongoing business growth.
X-ALT-DESC;FMTTYPE=text/html:Learn the ins and outs of seed funding\, what it means for your company\, and what to look out for to ensure you are making the right choice for your ongoing business growth.
LOCATION:Live Zoom
UID:e.2066.3946
SEQUENCE:3
DTSTAMP:20260423T160437Z
URL:https://dev.chainolakeschamber.com/events/details/grow-your-business-with-seed-series-a-b-and-c-funding-3946
END:VEVENT

END:VCALENDAR
