BEGIN:VCALENDAR
VERSION:2.0
PRODID:-//ChamberMaster//Event Calendar 2.0//EN
METHOD:PUBLISH
X-PUBLISHED-TTL:P3D
REFRESH-INTERVAL:P3D
CALSCALE:GREGORIAN
BEGIN:VEVENT
DTSTART:20230204T160000Z
DTEND:20230204T180000Z
X-MICROSOFT-CDO-ALLDAYEVENT:FALSE
SUMMARY:Grant Township Valentine's 4 Vets
DESCRIPTION:Looking for Volunteers to join Julia Mazur\, Stampin' Up! Demonstrator\, in making Valentines and writing notes for our local Veterans.\n\n\n\nWe'll share the love and express gratitude by sending cards and treats to the midwest Veterans closet annual Valentines 4 Veterans event and our local American Legion in Fox Lake.\n\n\n\n*No need to be crafty for this one... we need people for simple assembly and to write notes.\n\n\n\nTo sign up\, call Grant Township
X-ALT-DESC;FMTTYPE=text/html:Looking for Volunteers to join Julia Mazur\, Stampin&#39\; Up! Demonstrator\, in making Valentines and writing notes for our local Veterans.<br />\n<br />\nWe&#39\;ll share the love and express gratitude by sending cards and treats to the midwest Veterans closet annual Valentines 4 Veterans event and our local American Legion in Fox Lake.<br />\n<br />\n*No need to be crafty for this one... we need people for simple assembly and to write notes.<br />\n<br />\nTo sign up\, call Grant Township&nbsp\;
LOCATION:Grant Township Center Lower Level Community Room 26725 W. Molidor Road Ingleside IL 60041
UID:e.2066.4958
SEQUENCE:3
DTSTAMP:20260420T001949Z
URL:https://dev.chainolakeschamber.com/events/details/grant-township-valentine-s-4-vets-4958
END:VEVENT

END:VCALENDAR
