BEGIN:VCALENDAR
VERSION:2.0
PRODID:-//ChamberMaster//Event Calendar 2.0//EN
METHOD:PUBLISH
X-PUBLISHED-TTL:P3D
REFRESH-INTERVAL:P3D
CALSCALE:GREGORIAN
BEGIN:VEVENT
DTSTART:20230119T163000Z
DTEND:20230119T183000Z
X-MICROSOFT-CDO-ALLDAYEVENT:FALSE
SUMMARY:Grant Township Senior Luncheon
DESCRIPTION:Reserve your seat now for the Senior Luncheon!
X-ALT-DESC;FMTTYPE=text/html:Reserve your seat now for the Senior Luncheon!
LOCATION:Lakefront Park Building 71 Nippersink Blvd Fox Lake\, IL
UID:e.2066.4933
SEQUENCE:3
DTSTAMP:20260420T021407Z
URL:https://dev.chainolakeschamber.com/events/details/grant-township-senior-luncheon-4933
END:VEVENT

END:VCALENDAR
