BEGIN:VCALENDAR
VERSION:2.0
PRODID:-//ChamberMaster//Event Calendar 2.0//EN
METHOD:PUBLISH
X-PUBLISHED-TTL:P3D
REFRESH-INTERVAL:P3D
CALSCALE:GREGORIAN
BEGIN:VEVENT
DTSTART:20230310T230000Z
DTEND:20230311T020000Z
X-MICROSOFT-CDO-ALLDAYEVENT:FALSE
SUMMARY:Grant Township Center Fish Fry
DESCRIPTION:Join us for our Fish Fry with Chicken Fingers available.\n\nSilent Auction\n\nAll proceeds to benefit Park Improvements
X-ALT-DESC;FMTTYPE=text/html:Join us for our Fish Fry with Chicken Fingers available.<br />\nSilent Auction<br />\nAll proceeds to benefit Park Improvements&nbsp\;&nbsp\;&nbsp\;&nbsp\;&nbsp\;&nbsp\;&nbsp\;&nbsp\;
LOCATION:American Legion Hall 703 N. Rt. 12 Fox Lake\, IL
UID:e.2066.4957
SEQUENCE:3
DTSTAMP:20260419T203614Z
URL:https://dev.chainolakeschamber.com/events/details/grant-township-center-fish-fry-4957
END:VEVENT

END:VCALENDAR
