BEGIN:VCALENDAR
VERSION:2.0
PRODID:-//ChamberMaster//Event Calendar 2.0//EN
METHOD:PUBLISH
X-PUBLISHED-TTL:P3D
REFRESH-INTERVAL:P3D
CALSCALE:GREGORIAN
BEGIN:VEVENT
DTSTART:20200311T143000Z
DTEND:20200311T201000Z
X-MICROSOFT-CDO-ALLDAYEVENT:FALSE
SUMMARY:Grant Community High School Career Fair
DESCRIPTION:Grant Community High School is hosting a career exploration fair for our students as they navigate through their post-high school journey. This event will help students learn more about a potential career as well as the route they need to take to get there. Should they apply to a 4-year university? Or maybe a trade/technical school? What about a community college? Should they enlist in the military? Should they seek out an apprenticeship? Should they go straight into the workforce? These are all decisions our students will face\, and we hope this event will help them walk away with a better understanding of which career is right for them as well as the knowledge of what they need to do to get there.
X-ALT-DESC;FMTTYPE=text/html:Grant Community High School is hosting a career exploration fair for our students as they navigate through their post-high school journey. This event will help students learn more about a potential career as well as the route they need to take to get there. Should they apply to a 4-year university? Or maybe a trade/technical school? What about a community college? Should they enlist in the military? Should they seek out an apprenticeship? Should they go straight into the workforce? These are all decisions our students will face\, and we hope this event will help them walk away with a better understanding of which career is right for them as well as the knowledge of what they need to do to get there.
LOCATION:Grant Community High School 285 E. Grand Avenue Fox Lake\, IL 60020
UID:e.2066.3236
SEQUENCE:3
DTSTAMP:20260424T143128Z
URL:https://dev.chainolakeschamber.com/events/details/grant-community-high-school-career-fair-3236
END:VEVENT

END:VCALENDAR
