BEGIN:VCALENDAR
VERSION:2.0
PRODID:-//ChamberMaster//Event Calendar 2.0//EN
METHOD:PUBLISH
X-PUBLISHED-TTL:P3D
REFRESH-INTERVAL:P3D
CALSCALE:GREGORIAN
BEGIN:VEVENT
DTSTART:20230322T142500Z
DTEND:20230322T201000Z
X-MICROSOFT-CDO-ALLDAYEVENT:FALSE
SUMMARY:Grant Comm High School 2023 Career Fair
DESCRIPTION:Grant Community High School is hosting a career fair for all students\, grades 9-12\, to help foster an exploration into the many career options available.\n\n\n\nTo be a presenter/career representative\, please RSVP at https://forms.gle/Yibo5kLforBYtaeV9\n\n\n\nCareer Reps will be provided an 8-foot table\, wireless internet access\, and access to electrical outlets if necessary. Lunch and snacks will also be served.
X-ALT-DESC;FMTTYPE=text/html:Grant Community High School is hosting a career fair for all students\, grades 9-12\, to help foster an exploration into the many career options available.<br />\n<br />\nTo be a presenter/career representative\, please RSVP at https://forms.gle/Yibo5kLforBYtaeV9<br />\n<br />\nCareer Reps will be provided an 8-foot table\, wireless internet access\, and access to electrical outlets if necessary. Lunch and snacks will also be served.
LOCATION:Grant Community High School Fieldhouse 285 E. Grand Avenue Fox Lake\, IL 60020
UID:e.2066.4913
SEQUENCE:3
DTSTAMP:20260419T223123Z
URL:https://dev.chainolakeschamber.com/events/details/grant-comm-high-school-2023-career-fair-4913
END:VEVENT

END:VCALENDAR
