BEGIN:VCALENDAR
VERSION:2.0
PRODID:-//ChamberMaster//Event Calendar 2.0//EN
METHOD:PUBLISH
X-PUBLISHED-TTL:P3D
REFRESH-INTERVAL:P3D
CALSCALE:GREGORIAN
BEGIN:VEVENT
DTSTART:20230420T220000Z
DTEND:20230421T000000Z
X-MICROSOFT-CDO-ALLDAYEVENT:FALSE
SUMMARY:Grand Opening/Ribbon Cuttng/Mixer at Designer Custom Cabinets!
DESCRIPTION:Join us in celebrating the Grand Opening of Designer Custom Cabinets with a Ribbon Cutting and Mixer! Take a tour of the showroom to see all the amazing cabinets\, countertops and more that are available for your dream kitchen!\n\nAppetizers and beverages will be served.
X-ALT-DESC;FMTTYPE=text/html:Join us in celebrating the Grand Opening of Designer Custom Cabinets with a Ribbon Cutting and Mixer! Take a tour of the showroom to see all the amazing cabinets\, countertops and more that are available for your dream kitchen!<br />\nAppetizers and beverages will be served.
LOCATION:Designer Custom Cabinets 11 E. Grand Avenue Fox Lake\, IL
UID:e.2066.5089
SEQUENCE:3
DTSTAMP:20260419T205654Z
URL:https://dev.chainolakeschamber.com/events/details/grand-opening-ribbon-cuttng-mixer-at-designer-custom-cabinets-5089
END:VEVENT

END:VCALENDAR
