BEGIN:VCALENDAR
VERSION:2.0
PRODID:-//ChamberMaster//Event Calendar 2.0//EN
METHOD:PUBLISH
X-PUBLISHED-TTL:P3D
REFRESH-INTERVAL:P3D
CALSCALE:GREGORIAN
BEGIN:VEVENT
DTSTART:20230510T220000Z
DTEND:20230511T000000Z
X-MICROSOFT-CDO-ALLDAYEVENT:FALSE
SUMMARY:Grand Opening/Ribbon Cutting/Mixer at Freedom Boat Club
DESCRIPTION:Join us to celebrate the Grand Opening of Freedom Boat Club with a Ribbon Cutting and Mixer!\n\nAppetizers and drinks will be served.\n\nBonus: Special Prize for One Guest!
X-ALT-DESC;FMTTYPE=text/html:Join us to celebrate the Grand Opening of Freedom Boat Club with a Ribbon Cutting and Mixer!<br />\nAppetizers and drinks will be served.<br />\nBonus: Special Prize for One Guest!
LOCATION:Freedom Boat Club 514 Park Avenue Fox Lake IL
UID:e.2066.5110
SEQUENCE:3
DTSTAMP:20260419T174003Z
URL:https://dev.chainolakeschamber.com/events/details/grand-opening-ribbon-cutting-mixer-at-freedom-boat-club-5110
END:VEVENT

END:VCALENDAR
