BEGIN:VCALENDAR
VERSION:2.0
PRODID:-//ChamberMaster//Event Calendar 2.0//EN
METHOD:PUBLISH
X-PUBLISHED-TTL:P3D
REFRESH-INTERVAL:P3D
CALSCALE:GREGORIAN
BEGIN:VEVENT
DTSTART:20230730T160000Z
DTEND:20230730T190000Z
X-MICROSOFT-CDO-ALLDAYEVENT:FALSE
SUMMARY:Grace & Lace Bridal's 4th Anniv and Grand Opening of New Shop!
DESCRIPTION:Grace & Lace Bridal is Turning Four!\n\nJoin us for a Party!\n\nWe'll be featuring a DIY Hat Bar and the Unveiling of our Brand New Plus Size Bridal Boutique!\n\n\n\nFeaturing:\n\nWillow Design\n\nTuff Peach Craft Co.\n\nKT Cheesecakes\n\nRichmond Cafe
X-ALT-DESC;FMTTYPE=text/html:Grace &amp\; Lace Bridal is Turning Four!<br />\nJoin us for a Party!<br />\nWe&#39\;ll be featuring a DIY Hat Bar and the Unveiling of our Brand New Plus Size Bridal Boutique!<br />\n<br />\nFeaturing:<br />\nWillow Design<br />\nTuff Peach Craft Co.<br />\nKT Cheesecakes<br />\nRichmond Cafe
LOCATION:Grace & Lace Bridal 5603 Broadway Road Richmond IL 60071
UID:e.2066.5296
SEQUENCE:3
DTSTAMP:20260419T141000Z
URL:https://dev.chainolakeschamber.com/events/details/grace-lace-bridal-s-4th-anniv-and-grand-opening-of-new-shop-5296
END:VEVENT

END:VCALENDAR
