BEGIN:VCALENDAR
VERSION:2.0
PRODID:-//ChamberMaster//Event Calendar 2.0//EN
METHOD:PUBLISH
X-PUBLISHED-TTL:P3D
REFRESH-INTERVAL:P3D
CALSCALE:GREGORIAN
BEGIN:VEVENT
DTSTART:20211020T220000Z
DTEND:20211021T000000Z
X-MICROSOFT-CDO-ALLDAYEVENT:FALSE
SUMMARY:Good Night! Simple Steps to Better Sleep
DESCRIPTION:An increasing number of studies are showing us the crucial role that sleep plays in health\, wellbeing\, safety\, productivity and more. Reduce the cost of unexpected absences associated with health issues by up to 37% when employees know how to enjoy a better sleep\, which is proven to be linked to a host of wellness benefits for everyone's bottom line.
X-ALT-DESC;FMTTYPE=text/html:An increasing number of studies are showing us the crucial role that sleep plays in health\, wellbeing\, safety\, productivity and more. Reduce the cost of unexpected absences associated with health issues by up to 37% when employees know how to enjoy a better sleep\, which is proven to be linked to a host of wellness benefits for everyone&#39\;s bottom line.
LOCATION:Live Zoom
UID:e.2066.4139
SEQUENCE:3
DTSTAMP:20260423T065339Z
URL:https://dev.chainolakeschamber.com/events/details/good-night-simple-steps-to-better-sleep-4139
END:VEVENT

END:VCALENDAR
