BEGIN:VCALENDAR
VERSION:2.0
PRODID:-//ChamberMaster//Event Calendar 2.0//EN
METHOD:PUBLISH
X-PUBLISHED-TTL:P3D
REFRESH-INTERVAL:P3D
CALSCALE:GREGORIAN
BEGIN:VEVENT
DTSTART:20200916T140000Z
DTEND:20200917T003000Z
X-MICROSOFT-CDO-ALLDAYEVENT:FALSE
SUMMARY:Golf Outing 2020
DESCRIPTION:Only 88 golfers\n\n\n\nJOIN US FOR OUR ANNUAL GOLF OUTING\n\n18 Hole Scramble with cart\, lunch and dinner\n\n20 OZ Prime Rib Dinner at Dockers \n\n\n\nHelicopter ball drop\n\nContests on the course\n\nSilent Auction\n\n50/50 Raffle
X-ALT-DESC;FMTTYPE=text/html:<strong>Only 88 golfers<br />\n<br />\nJOIN US FOR OUR ANNUAL GOLF OUTING</strong><br />\n<strong>18 Hole Scramble with cart\, lunch and dinner</strong><br />\n<strong>20 OZ Prime Rib Dinner at Dockers </strong><br />\n<br />\nHelicopter ball drop<br />\nContests on the course<br />\nSilent Auction<br />\n50/50 Raffle<br />\n&nbsp\;<br />\n&nbsp\;
LOCATION:Fox Lake Country Club 7220 State Park Road Fox Lake\, IL 60020 Dinner at Dockers 33 W. Grand Ave Fox Lake IL
UID:e.2066.3187
SEQUENCE:3
DTSTAMP:20260424T032732Z
URL:https://dev.chainolakeschamber.com/events/details/golf-outing-2020-3187
END:VEVENT

END:VCALENDAR
