BEGIN:VCALENDAR
VERSION:2.0
PRODID:-//ChamberMaster//Event Calendar 2.0//EN
METHOD:PUBLISH
X-PUBLISHED-TTL:P3D
REFRESH-INTERVAL:P3D
CALSCALE:GREGORIAN
BEGIN:VEVENT
DTSTART:20230504T163000Z
DTEND:20230504T173000Z
X-MICROSOFT-CDO-ALLDAYEVENT:FALSE
SUMMARY:Golden Years Real Estate:Tips & Insights for Seniors
DESCRIPTION:Join us for an informative presentation on Buying and Selling your home - tailored specifically for seniors! As an experienced and trustworthy Real Estate Agent\, Dave LoSavio will provide valuable insights into the current market trends and share tips for navigating the buying and selling process with ease. Whether you're looking to downsize\, relocate\, or simply explore your options\, this event is a must-attend! Join us for an engaging discussion that will leave you feeling confident and empowered with your next Real Estate decision. See you there!\n\n\n\nPresented by Dave LoSavio\, Realtor  | Broker | SRES  Mark Allen Realty\n\n\n\n*Make sure to register for this event*
X-ALT-DESC;FMTTYPE=text/html:<span style="color:rgb(5\, 10\, 48)">Join us for an informative presentation on Buying and Selling your home - tailored specifically for seniors! As an experienced and trustworthy Real Estate Agent\, Dave LoSavio will provide valuable insights into the current market trends and share tips for navigating the buying and selling process with ease. Whether you&#39\;re looking to downsize\, relocate\, or simply explore your options\, this event is a must-attend! Join us for an engaging discussion that will leave you feeling confident and empowered with your next Real Estate decision. See you there!</span><br />\n<br />\n<strong>Presented by Dave LoSavio\, Realtor&reg\; | Broker | SRES&reg\; Mark Allen Realty<br />\n<br />\n*Make sure to register for this event*</strong>
LOCATION:This event will be held at Elderwerks Center: 251 E. Northwest Hwy Palatine\, IL 60067
UID:e.2066.5076
SEQUENCE:3
DTSTAMP:20260419T172736Z
URL:https://dev.chainolakeschamber.com/events/details/golden-years-real-estate-tips-insights-for-seniors-5076
END:VEVENT

END:VCALENDAR
